BEGIN:VCALENDAR
VERSION:2.0
PRODID:-//Tampa Police Memorial - ECPv6.15.20//NONSGML v1.0//EN
CALSCALE:GREGORIAN
METHOD:PUBLISH
X-ORIGINAL-URL:http://tampapolicememorial.org
X-WR-CALDESC:Events for Tampa Police Memorial
REFRESH-INTERVAL;VALUE=DURATION:PT1H
X-Robots-Tag:noindex
X-PUBLISHED-TTL:PT1H
BEGIN:VTIMEZONE
TZID:America/New_York
BEGIN:DAYLIGHT
TZOFFSETFROM:-0500
TZOFFSETTO:-0400
TZNAME:EDT
DTSTART:20180311T070000
END:DAYLIGHT
BEGIN:STANDARD
TZOFFSETFROM:-0400
TZOFFSETTO:-0500
TZNAME:EST
DTSTART:20181104T060000
END:STANDARD
BEGIN:DAYLIGHT
TZOFFSETFROM:-0500
TZOFFSETTO:-0400
TZNAME:EDT
DTSTART:20190310T070000
END:DAYLIGHT
BEGIN:STANDARD
TZOFFSETFROM:-0400
TZOFFSETTO:-0500
TZNAME:EST
DTSTART:20191103T060000
END:STANDARD
BEGIN:DAYLIGHT
TZOFFSETFROM:-0500
TZOFFSETTO:-0400
TZNAME:EDT
DTSTART:20200308T070000
END:DAYLIGHT
BEGIN:STANDARD
TZOFFSETFROM:-0400
TZOFFSETTO:-0500
TZNAME:EST
DTSTART:20201101T060000
END:STANDARD
END:VTIMEZONE
BEGIN:VEVENT
DTSTART;TZID=America/New_York:20191001T073000
DTEND;TZID=America/New_York:20191001T080000
DTSTAMP:20260423T131457
CREATED:20190718T210154Z
LAST-MODIFIED:20190718T210346Z
UID:12164-1569915000-1569916800@tampapolicememorial.org
SUMMARY:Officer Joseph Nance 80 Year Remembrance Ceremony
DESCRIPTION:
URL:http://tampapolicememorial.org/event/officer-joseph-nance-80-year-remembrance-ceremony/
LOCATION:Tampa Police Department
ATTACH;FMTTYPE=image/jpeg:http://tampapolicememorial.org/wp-content/uploads/2019/07/19391001_det_joe_nance.jpg
END:VEVENT
BEGIN:VEVENT
DTSTART;VALUE=DATE:20190901
DTEND;VALUE=DATE:20191001
DTSTAMP:20260423T131457
CREATED:20190911T044217Z
LAST-MODIFIED:20190911T044625Z
UID:12186-1567296000-1569887999@tampapolicememorial.org
SUMMARY:Eat At Any Columbia Restaurant And They'll Donate To Our Charity In September
DESCRIPTION:For Charitable Organizations\, Please Choose Tampa Police Memorial \nEat Well. Do Good.\nHelp Community Non-Profits By Dining\nAt Any Columbia Restaurant In September For\n22nd Annual Columbia Community Harvest \nTAMPA\, Fla.\, May 28\, 2019 – Let your appetite do the giving while you support local non-profit groups in Florida by dining at any of the seven Columbia locations in Florida during the entire month of September for lunch or dinner during the 22nd Annual Columbia Restaurant Community Harvest program. \nThrough this program\, The Columbia donates 5 percent of all guests’ September lunch and dinner checks to the charitable organizations chosen by their customers. The Columbia Community Harvest takes place in all of the Columbia locations including Ybor City in the historic district of Tampa\, St. Armands Circle in Sarasota\, St. Augustine\, Sand Key on Clearwater Beach\, Central Florida’s Town of Celebration\, the Columbia Cafe on the Riverwalk in Downtown Tampa at the Tampa Bay History Center and the Columbia Restaurant Cafe at Tampa International Airport. All Columbia locations are open seven days a week for lunch and dinner. For more information\, see www.ColumbiaRestaurant.com \n“We started this program in 1998 as a way to help many of the worthy non-profit groups that are so important to our communities\,” said 4th generation family member and president Richard Gonzmart. “We thought the best way to do this was by letting our customers get involved in selecting the organizations. The process is simple. They just put a check mark next to one of the charitable organizations listed on a form we provide. They turn it in to their server. We do the rest\, and donate 5 percent to the charity.” \nOver the past 21 years\, the Columbia Restaurant Community Harvest has donated more than $2.4 million to nonprofit organizations throughout Florida. \nThe original Columbia Restaurant was founded in Tampa’s Historic Ybor City in 1905 by Cuban immigrant Casimiro Hernandez\, Sr.\, and is now Florida’s oldest restaurant. Additional Columbia locations include St. Armands Circle in Sarasota\, the Historic District in St. Augustine\, Sand Key on Clearwater Beach\, Central Florida’s town of Celebration\, the Columbia Cafe on the Riverwalk in Tampa and the Columbia Restaurant Cafe at Tampa International Airport. \nAll Columbia locations are owned and operated by 4th and 5th generation members of the founding family except for Columbia Restaurant Cafe at Tampa International Airport\, which is operated in partnership with HMSHost. Follow on Twitter\, Instagram and Facebook. Please see www.ColumbiaRestaurant.com for more information.
URL:http://tampapolicememorial.org/event/eat-at-any-columbia-restaurant-and-theyll-donate-to-our-charity-in-september/
LOCATION:Columbia Restaurants\, United States
ATTACH;FMTTYPE=image/png:http://tampapolicememorial.org/wp-content/uploads/2019/09/22nd-annual-columbia-harvest.png
END:VEVENT
BEGIN:VEVENT
DTSTART;TZID=America/New_York:20190819T113000
DTEND;TZID=America/New_York:20190819T120000
DTSTAMP:20260423T131457
CREATED:20190718T205346Z
LAST-MODIFIED:20190718T205739Z
UID:12155-1566214200-1566216000@tampapolicememorial.org
SUMMARY:Corporal Michael Roberts 10 Year Remembrance Ceremony
DESCRIPTION:
URL:http://tampapolicememorial.org/event/12155/
LOCATION:Tampa Police Department
ATTACH;FMTTYPE=image/jpeg:http://tampapolicememorial.org/wp-content/uploads/2019/07/corporal-michael-roberts.jpg
END:VEVENT
BEGIN:VEVENT
DTSTART;TZID=America/New_York:20190802T073000
DTEND;TZID=America/New_York:20190802T083000
DTSTAMP:20260423T131457
CREATED:20190718T210743Z
LAST-MODIFIED:20190718T212516Z
UID:12168-1564731000-1564734600@tampapolicememorial.org
SUMMARY:Tampa Police Memorial Scholarship Ceremony August 2nd at 1130 hours
DESCRIPTION:
URL:http://tampapolicememorial.org/event/tampa-police-memorial-scholarship-ceremony-august-2nd-at-1130-hours/
LOCATION:Tampa Police Department
ATTACH;FMTTYPE=image/jpeg:http://tampapolicememorial.org/wp-content/uploads/2019/07/scholarship2.jpg
END:VEVENT
END:VCALENDAR